BEGIN:VCALENDAR
VERSION:2.0
PRODID:-//Thekentornados Rothemann - ECPv6.7.0//NONSGML v1.0//EN
CALSCALE:GREGORIAN
METHOD:PUBLISH
X-WR-CALNAME:Thekentornados Rothemann
X-ORIGINAL-URL:https://thekentornados.de
X-WR-CALDESC:Veranstaltungen für Thekentornados Rothemann
REFRESH-INTERVAL;VALUE=DURATION:PT1H
X-Robots-Tag:noindex
X-PUBLISHED-TTL:PT1H
BEGIN:VTIMEZONE
TZID:Europe/Berlin
BEGIN:DAYLIGHT
TZOFFSETFROM:+0100
TZOFFSETTO:+0200
TZNAME:CEST
DTSTART:20130331T010000
END:DAYLIGHT
BEGIN:STANDARD
TZOFFSETFROM:+0200
TZOFFSETTO:+0100
TZNAME:CET
DTSTART:20131027T010000
END:STANDARD
BEGIN:DAYLIGHT
TZOFFSETFROM:+0100
TZOFFSETTO:+0200
TZNAME:CEST
DTSTART:20140330T010000
END:DAYLIGHT
BEGIN:STANDARD
TZOFFSETFROM:+0200
TZOFFSETTO:+0100
TZNAME:CET
DTSTART:20141026T010000
END:STANDARD
BEGIN:DAYLIGHT
TZOFFSETFROM:+0100
TZOFFSETTO:+0200
TZNAME:CEST
DTSTART:20150329T010000
END:DAYLIGHT
BEGIN:STANDARD
TZOFFSETFROM:+0200
TZOFFSETTO:+0100
TZNAME:CET
DTSTART:20151025T010000
END:STANDARD
BEGIN:DAYLIGHT
TZOFFSETFROM:+0100
TZOFFSETTO:+0200
TZNAME:CEST
DTSTART:20160327T010000
END:DAYLIGHT
BEGIN:STANDARD
TZOFFSETFROM:+0200
TZOFFSETTO:+0100
TZNAME:CET
DTSTART:20161030T010000
END:STANDARD
BEGIN:DAYLIGHT
TZOFFSETFROM:+0100
TZOFFSETTO:+0200
TZNAME:CEST
DTSTART:20170326T010000
END:DAYLIGHT
BEGIN:STANDARD
TZOFFSETFROM:+0200
TZOFFSETTO:+0100
TZNAME:CET
DTSTART:20171029T010000
END:STANDARD
BEGIN:DAYLIGHT
TZOFFSETFROM:+0100
TZOFFSETTO:+0200
TZNAME:CEST
DTSTART:20180325T010000
END:DAYLIGHT
BEGIN:STANDARD
TZOFFSETFROM:+0200
TZOFFSETTO:+0100
TZNAME:CET
DTSTART:20181028T010000
END:STANDARD
BEGIN:DAYLIGHT
TZOFFSETFROM:+0100
TZOFFSETTO:+0200
TZNAME:CEST
DTSTART:20190331T010000
END:DAYLIGHT
BEGIN:STANDARD
TZOFFSETFROM:+0200
TZOFFSETTO:+0100
TZNAME:CET
DTSTART:20191027T010000
END:STANDARD
BEGIN:DAYLIGHT
TZOFFSETFROM:+0100
TZOFFSETTO:+0200
TZNAME:CEST
DTSTART:20200329T010000
END:DAYLIGHT
BEGIN:STANDARD
TZOFFSETFROM:+0200
TZOFFSETTO:+0100
TZNAME:CET
DTSTART:20201025T010000
END:STANDARD
BEGIN:DAYLIGHT
TZOFFSETFROM:+0100
TZOFFSETTO:+0200
TZNAME:CEST
DTSTART:20210328T010000
END:DAYLIGHT
BEGIN:STANDARD
TZOFFSETFROM:+0200
TZOFFSETTO:+0100
TZNAME:CET
DTSTART:20211031T010000
END:STANDARD
BEGIN:DAYLIGHT
TZOFFSETFROM:+0100
TZOFFSETTO:+0200
TZNAME:CEST
DTSTART:20220327T010000
END:DAYLIGHT
BEGIN:STANDARD
TZOFFSETFROM:+0200
TZOFFSETTO:+0100
TZNAME:CET
DTSTART:20221030T010000
END:STANDARD
BEGIN:DAYLIGHT
TZOFFSETFROM:+0100
TZOFFSETTO:+0200
TZNAME:CEST
DTSTART:20230326T010000
END:DAYLIGHT
BEGIN:STANDARD
TZOFFSETFROM:+0200
TZOFFSETTO:+0100
TZNAME:CET
DTSTART:20231029T010000
END:STANDARD
END:VTIMEZONE
BEGIN:VEVENT
DTSTART;VALUE=DATE:20230205
DTEND;VALUE=DATE:20230207
DTSTAMP:20260420T082817
CREATED:20221111T070811Z
LAST-MODIFIED:20221115T103729Z
UID:295-1675558800-1675645199@thekentornados.de
SUMMARY:9. Männerfrühschoppen - Rothemann
DESCRIPTION:
URL:https://thekentornados.de/event/9-maennerfruehschoppen-rothemann
CATEGORIES:Termine
END:VEVENT
BEGIN:VEVENT
DTSTART;TZID=Europe/Berlin:20230121T200000
DTEND;TZID=Europe/Berlin:20230121T200000
DTSTAMP:20260420T082817
CREATED:20221126T082703Z
LAST-MODIFIED:20221126T082703Z
UID:430-1674331200-1674331200@thekentornados.de
SUMMARY:BDH Fastnacht Rothemann
DESCRIPTION:
URL:https://thekentornados.de/event/bdh-fastnacht-rothemann
LOCATION:BÜZ Rothemann\, Pappelallee 3\, Eichenzell\, 36124\, Deutschland
END:VEVENT
BEGIN:VEVENT
DTSTART;TZID=Europe/Berlin:20200627T220000
DTEND;TZID=Europe/Berlin:20200628T000000
DTSTAMP:20260420T082817
CREATED:20200217T143206Z
LAST-MODIFIED:20200219T105409Z
UID:347-1593295200-1593302400@thekentornados.de
SUMMARY:Ein Abend mit Franz Habersack auf der Open-Air Bühne am Steinhauck
DESCRIPTION:Erleben sie Rhöner Mundart in Perfektion. Franz Habersack (alias Michael Bleuel) ist bekannt vom Comedyduo “Quatsch mit Soße – Wolf und Bleuel”. An diesem Abend unterhält Bleuel als Franz Habersack die Gäste mit Anekdoten und Liedern in Rhöner Mundart\, sowie Auszügen aus seinem Buch. Das “Ö”. Unterstützt wird er dabei von den Plattschwätz-Girls. \nDie Veranstaltung findet auf der Freilichtbühne am Steinhauck statt. Bei schlechtem Wetter findet die Veranstaltung im Bürgerzentrum in Rothemann statt.
URL:https://thekentornados.de/event/ein-abend-mit-franz-habersack-auf-der-open-air-buehne-am-steinhauck
LOCATION:Steinhauck\, Steinhauck\, Eichenzell\, 36124
CATEGORIES:Termine
END:VEVENT
BEGIN:VEVENT
DTSTART;VALUE=DATE:20200223
DTEND;VALUE=DATE:20200225
DTSTAMP:20260420T082817
CREATED:20200216T084158Z
LAST-MODIFIED:20200216T084158Z
UID:91-1582419600-1582505999@thekentornados.de
SUMMARY:Fastnachtsumzug der HoBiFa - Hofbieber
DESCRIPTION:
URL:https://thekentornados.de/event/fastnachtsumzug-der-hobifa-hofbieber
CATEGORIES:Termine
END:VEVENT
BEGIN:VEVENT
DTSTART;VALUE=DATE:20200222
DTEND;VALUE=DATE:20200224
DTSTAMP:20260420T082817
CREATED:20200215T211919Z
LAST-MODIFIED:20200217T102944Z
UID:59-1582333200-1582419599@thekentornados.de
SUMMARY:2. Maskenball der Thekentornados
DESCRIPTION:
URL:https://thekentornados.de/event/2-maskenball
LOCATION:Altes Bürgerhaus\, Büchenberger Str. 2\, Rothemann\, 36124
CATEGORIES:Termine
END:VEVENT
BEGIN:VEVENT
DTSTART;VALUE=DATE:20200221
DTEND;VALUE=DATE:20200223
DTSTAMP:20260420T082817
CREATED:20200216T083308Z
LAST-MODIFIED:20200216T092003Z
UID:85-1582246800-1582333199@thekentornados.de
SUMMARY:Schoppegehoppe - Der Schoppegarde in Eichenzell
DESCRIPTION:
URL:https://thekentornados.de/event/schoppegehoppe-der-schoppegarde-in-eichenzell
CATEGORIES:Termine
END:VEVENT
BEGIN:VEVENT
DTSTART;VALUE=DATE:20200220
DTEND;VALUE=DATE:20200222
DTSTAMP:20260420T082817
CREATED:20200216T084102Z
LAST-MODIFIED:20200216T084102Z
UID:89-1582160400-1582246799@thekentornados.de
SUMMARY:Weiberfastnacht - Engelhelms
DESCRIPTION:
URL:https://thekentornados.de/event/weiberfastnacht-engelhelms
CATEGORIES:Termine
END:VEVENT
BEGIN:VEVENT
DTSTART;VALUE=DATE:20200219
DTEND;VALUE=DATE:20200221
DTSTAMP:20260420T082817
CREATED:20200216T084032Z
LAST-MODIFIED:20200216T084032Z
UID:87-1582074000-1582160399@thekentornados.de
SUMMARY:Weiberfastnacht Böckels
DESCRIPTION:
URL:https://thekentornados.de/event/weiberfastnacht-boeckels
CATEGORIES:Termine
END:VEVENT
BEGIN:VEVENT
DTSTART;VALUE=DATE:20200215
DTEND;VALUE=DATE:20200217
DTSTAMP:20260420T082817
CREATED:20200215T193334Z
LAST-MODIFIED:20200215T205813Z
UID:38-1581728400-1581814799@thekentornados.de
SUMMARY:Lümmelgetümmel Thalau
DESCRIPTION:
URL:https://thekentornados.de/event/luemmelgetuemmel-thalau
CATEGORIES:Termine
END:VEVENT
BEGIN:VEVENT
DTSTART;VALUE=DATE:20200214
DTEND;VALUE=DATE:20200216
DTSTAMP:20260420T082817
CREATED:20200217T100833Z
LAST-MODIFIED:20200217T100833Z
UID:336-1581642000-1581728399@thekentornados.de
SUMMARY:Weiberfastnacht Rothemann
DESCRIPTION:
URL:https://thekentornados.de/event/weiberfastnacht-rothemann
CATEGORIES:Termine
END:VEVENT
BEGIN:VEVENT
DTSTART;VALUE=DATE:20200209
DTEND;VALUE=DATE:20200211
DTSTAMP:20260420T082817
CREATED:20200217T100238Z
LAST-MODIFIED:20200217T100241Z
UID:322-1581210000-1581296399@thekentornados.de
SUMMARY:8. Männerfrühschoppen - Rothemann
DESCRIPTION:
URL:https://thekentornados.de/event/8-maennerfruehschoppen-rothemann
LOCATION:BÜZ Rothemann\, Pappelallee 3\, Eichenzell\, 36124\, Deutschland
CATEGORIES:Männerfrühschoppen
ATTACH;FMTTYPE=image/jpeg:https://thekentornados.de/wp-content/uploads/2020/02/Plakat_Männerfrühschoppen_2020-3.jpg
END:VEVENT
BEGIN:VEVENT
DTSTART;VALUE=DATE:20200208
DTEND;VALUE=DATE:20200210
DTSTAMP:20260420T082817
CREATED:20200217T100804Z
LAST-MODIFIED:20200217T100804Z
UID:334-1581123600-1581209999@thekentornados.de
SUMMARY:Männerrabatz Bachrain
DESCRIPTION:
URL:https://thekentornados.de/event/maennerrabatz-bachrain
CATEGORIES:Termine
END:VEVENT
BEGIN:VEVENT
DTSTART;VALUE=DATE:20200207
DTEND;VALUE=DATE:20200209
DTSTAMP:20260420T082817
CREATED:20200217T100726Z
LAST-MODIFIED:20200217T100726Z
UID:332-1581037200-1581123599@thekentornados.de
SUMMARY:Gardetreffen Weyhers
DESCRIPTION:
URL:https://thekentornados.de/event/gardetreffen-weyhers
CATEGORIES:Termine
END:VEVENT
BEGIN:VEVENT
DTSTART;VALUE=DATE:20200201
DTEND;VALUE=DATE:20200203
DTSTAMP:20260420T082817
CREATED:20200217T100655Z
LAST-MODIFIED:20200217T100655Z
UID:330-1580518800-1580605199@thekentornados.de
SUMMARY:Gardetreffen Magdlos
DESCRIPTION:
URL:https://thekentornados.de/event/gardetreffen-magdlos
END:VEVENT
BEGIN:VEVENT
DTSTART;VALUE=DATE:20200131
DTEND;VALUE=DATE:20200202
DTSTAMP:20260420T082817
CREATED:20200217T100620Z
LAST-MODIFIED:20200217T100620Z
UID:328-1580432400-1580518799@thekentornados.de
SUMMARY:Gardetreffen Büchenberg
DESCRIPTION:
URL:https://thekentornados.de/event/gardetreffen-buechenberg
CATEGORIES:Termine
END:VEVENT
BEGIN:VEVENT
DTSTART;VALUE=DATE:20200118
DTEND;VALUE=DATE:20200120
DTSTAMP:20260420T082817
CREATED:20200217T100447Z
LAST-MODIFIED:20200217T102852Z
UID:324-1579309200-1579395599@thekentornados.de
SUMMARY:Bund der Heimatfreunde Rothemann
DESCRIPTION:
URL:https://thekentornados.de/event/bund-der-heimatfreunde-rothemann
LOCATION:BÜZ Rothemann\, Pappelallee 3\, Eichenzell\, 36124\, Deutschland
CATEGORIES:Termine
END:VEVENT
BEGIN:VEVENT
DTSTART;VALUE=DATE:20190217
DTEND;VALUE=DATE:20190219
DTSTAMP:20260420T082817
CREATED:20200217T095852Z
LAST-MODIFIED:20200217T102744Z
UID:320-1550365200-1550451599@thekentornados.de
SUMMARY:7. Männerfrühschoppen - Rothemann
DESCRIPTION:
URL:https://thekentornados.de/event/7-maennerfruehschoppen-rothemann
LOCATION:BÜZ Rothemann\, Pappelallee 3\, Eichenzell\, 36124\, Deutschland
CATEGORIES:Männerfrühschoppen
END:VEVENT
BEGIN:VEVENT
DTSTART;VALUE=DATE:20180128
DTEND;VALUE=DATE:20180130
DTSTAMP:20260420T082817
CREATED:20200217T095752Z
LAST-MODIFIED:20200217T100010Z
UID:318-1517101200-1517187599@thekentornados.de
SUMMARY:6. Männerfrühschoppen - Rothemann
DESCRIPTION:20
URL:https://thekentornados.de/event/6-maennerfruehschoppen-rothemann
CATEGORIES:Männerfrühschoppen
END:VEVENT
BEGIN:VEVENT
DTSTART;VALUE=DATE:20170212
DTEND;VALUE=DATE:20170214
DTSTAMP:20260420T082817
CREATED:20200217T095633Z
LAST-MODIFIED:20200217T100002Z
UID:313-1486861200-1486947599@thekentornados.de
SUMMARY:5. Männerfrühschoppen - Rothemann
DESCRIPTION:
URL:https://thekentornados.de/event/5-maennerfruehschoppen-rothemann
LOCATION:BÜZ Rothemann\, Pappelallee 3\, Eichenzell\, 36124\, Deutschland
CATEGORIES:Männerfrühschoppen
END:VEVENT
BEGIN:VEVENT
DTSTART;VALUE=DATE:20160124
DTEND;VALUE=DATE:20160126
DTSTAMP:20260420T082817
CREATED:20200217T094031Z
LAST-MODIFIED:20200217T100026Z
UID:304-1453597200-1453683599@thekentornados.de
SUMMARY:4. Männerfrühschoppen - Rothemann
DESCRIPTION:
URL:https://thekentornados.de/event/4-maennerfruehschoppen-rothemann
LOCATION:BÜZ Rothemann\, Pappelallee 3\, Eichenzell\, 36124\, Deutschland
CATEGORIES:Männerfrühschoppen
END:VEVENT
BEGIN:VEVENT
DTSTART;VALUE=DATE:20150118
DTEND;VALUE=DATE:20150120
DTSTAMP:20260420T082817
CREATED:20200217T093746Z
LAST-MODIFIED:20200217T100030Z
UID:302-1421542800-1421629199@thekentornados.de
SUMMARY:3. Männerfrühschoppen - Rothemann
DESCRIPTION:
URL:https://thekentornados.de/event/3-maennerfruehschoppen-rothemann
LOCATION:BÜZ Rothemann\, Pappelallee 3\, Eichenzell\, 36124\, Deutschland
CATEGORIES:Männerfrühschoppen
END:VEVENT
BEGIN:VEVENT
DTSTART;VALUE=DATE:20140216
DTEND;VALUE=DATE:20140218
DTSTAMP:20260420T082817
CREATED:20200217T093648Z
LAST-MODIFIED:20200217T100015Z
UID:300-1392512400-1392598799@thekentornados.de
SUMMARY:2. Männerfrühschoppen - Rothemann
DESCRIPTION:
URL:https://thekentornados.de/event/2-maennerfruehschoppen-rothemann
LOCATION:BÜZ Rothemann\, Pappelallee 3\, Eichenzell\, 36124\, Deutschland
CATEGORIES:Männerfrühschoppen
END:VEVENT
BEGIN:VEVENT
DTSTART;VALUE=DATE:20130126
DTEND;VALUE=DATE:20130128
DTSTAMP:20260420T082817
CREATED:20200217T093524Z
LAST-MODIFIED:20200217T100037Z
UID:297-1359162000-1359248399@thekentornados.de
SUMMARY:1. Männerfrühschoppen - Rothemann
DESCRIPTION:
URL:https://thekentornados.de/event/1-maennerfruehschoppen-rothemann
LOCATION:BÜZ Rothemann\, Pappelallee 3\, Eichenzell\, 36124\, Deutschland
CATEGORIES:Männerfrühschoppen
END:VEVENT
END:VCALENDAR